BEGIN:VCALENDAR
VERSION:2.0
PRODID:-//wp-events-plugin.com//7.2.3.1//EN
TZID:America/New_York
X-WR-TIMEZONE:America/New_York
BEGIN:VEVENT
UID:378@naminh.org
DTSTART;TZID=America/New_York:20230824T180000
DTEND;TZID=America/New_York:20230824T203000
DTSTAMP:20230801T101529Z
URL:https://www.naminh.org/events/crisis-intervention-team-cit-program-ori
 entation/
SUMMARY:Crisis Intervention Team (CIT) Program Orientation
DESCRIPTION:We invite the NAMI NH community to come learn about the CIT Pro
 gram during this two hour virtual orientation.\nCIT is a 40 hour program t
 hat engages first responders in better understanding how to recognize and 
 respond to someone experiencing a mental health or SUD crisis. This includ
 es the family's perspective. It also includes recognizing\ntheir own menta
 l health needs as well as colleagues\, friends\, and family members. CIT p
 articipants gain a better understanding of mental health diagnoses\, commu
 nity and state resources\, communication skills and verbal de-escalation s
 kills. Those trained in the CIT program can call upon these skills and res
 ources to\ncreate a safer environment for all.\n\nHelpful for any NAMI NH 
 VolunteerInterested in:\nParticipating in CIT role-play and/or moderation 
 for CIT Gaining deeper knowledge of CIT so they can inform families about 
 the program.
ATTACH;FMTTYPE=image/jpeg:https://www.naminh.org/wp-content/uploads/2023/0
 8/CITOrientationAug.23.png
CATEGORIES:Featured Event
LOCATION:https://naminh-org.zoom.us/j/84145888730?pwd=NTFvSVE2V0VJMU1SZURsb
 WhZN1h0UT09
END:VEVENT
BEGIN:VTIMEZONE
TZID:America/New_York
X-LIC-LOCATION:America/New_York
BEGIN:DAYLIGHT
DTSTART:20230312T030000
TZOFFSETFROM:-0500
TZOFFSETTO:-0400
TZNAME:EDT
END:DAYLIGHT
END:VTIMEZONE
END:VCALENDAR