BEGIN:VCALENDAR
VERSION:2.0
PRODID:-//wp-events-plugin.com//7.2.3.1//EN
TZID:America/New_York
X-WR-TIMEZONE:America/New_York
BEGIN:VEVENT
UID:19@naminh.org
DTSTART;TZID=America/New_York:20180305T140000
DTEND;TZID=America/New_York:20180305T153000
DTSTAMP:20180220T125049Z
URL:https://www.naminh.org/events/free-webinar-engaging-and-supporting-fam
 ilies-in-supporting-suicide-prevention/
SUMMARY:Free webinar - Engaging and Supporting Families in Supporting Suici
 de Prevention
DESCRIPTION:There are many ways family members and loved ones help individu
 als struggling with suicidal behavior. This webinar will focus on how orga
 nizations who are implementing suicide prevention programs can meaningfull
 y engage and include families whose loved ones are in suicidal crisis or h
 ave attempted suicide in their work\, and their crucial role in suicide pr
 evention. This will be part of SAMHSA’s larger effort focusing on engagi
 ng and supporting families with suicidal loved ones.\n\nWhile family membe
 rs should not be expected to assume the role of 24-hour monitors for their
  loved ones (except in rare circumstances)\, they often are in the role of
  first responders and safety nets as designated by plans post hospital dis
 charge. However\, they are often not prepared by their providers on how be
 st to respond their loved nor on how to effectively manage their own distr
 ess in times of such high emotionality. Mental health professionals who wo
 rk and treat suicidal patients are taught skills and strategies to be more
  effective in suicide prevention. Similarly\, family members also need ski
 lls and strategies both for post attempt communication and also as a tool 
 for prevention and early intervention.\n\nThis webinar will focus on the i
 mportance of engaging families and loved ones in different phases of suici
 de prevention\, highlighting current research in family engagement and fin
 ally sharing one example of family programming geared toward parents of su
 icidal teens and young adults. Participants will gain insight and awarenes
 s into challenges\, opportunities and outcomes around family engagement wi
 th suicidal individuals.\n\nPresenters:\n\nRichard McKeon PhD\, MPH - Chie
 f for the Suicide Prevention Branch in the Center for Mental Health Servic
 es\, of the Substance Abuse and Mental Health Services Administration.\n\n
 Perry D. Hoffman\, PhD - President and co-founder of the National Educatio
 n Alliance for Borderline Personality Disorder.\n\nAlan E. Fruzzetti\, PhD
  - Director of the Boys DBT Program and Director of Training in Family Ser
 vices for three East Programs at McLean Hospital\, and Associate Professor
  at Harvard Medical School (appointment pending).\n\nKen Norton\, LICSW - 
 Executive Director of the NH’s chapter of the National Alliance on Menta
 l Illness (NAMI NH).\n\nRajeev Ramchand\, PhD - Senior Behavioral Scientis
 t with RAND Corporation.\n\nClosed captioning is available by request with
  advance notice. To request closed captioning for this webinar\, please em
 ail Chelsea Pepi by Thursday\, March 1\, 2018\, 2 p.m. ET at cpepi@edc.org
 .\n\nLearn more and register here: https://go.edc.org/engagingfamilies\n\n
 This webinar is sponsored by the Substance Abuse and Mental Health Service
 s Administration\, the Suicide Prevention Resource Center\, and the Nation
 al Education Alliance for Borderline Personality Disorder
CATEGORIES:Community Event,Featured Event
END:VEVENT
BEGIN:VTIMEZONE
TZID:America/New_York
X-LIC-LOCATION:America/New_York
BEGIN:STANDARD
DTSTART:20171105T010000
TZOFFSETFROM:-0400
TZOFFSETTO:-0500
TZNAME:EST
END:STANDARD
END:VTIMEZONE
END:VCALENDAR