BEGIN:VCALENDAR
VERSION:2.0
PRODID:-//wp-events-plugin.com//7.2.3.1//EN
TZID:America/New_York
X-WR-TIMEZONE:America/New_York
BEGIN:VEVENT
UID:147@naminh.org
DTSTART;TZID=America/New_York:20201014T190000
DTEND;TZID=America/New_York:20201014T200000
DTSTAMP:20201005T171456Z
URL:https://www.naminh.org/events/in-our-own-voice-cara-carter/
SUMMARY:In Our Own Voice - Cara Carter
DESCRIPTION:
CATEGORIES:Featured Event
END:VEVENT
BEGIN:VTIMEZONE
TZID:America/New_York
X-LIC-LOCATION:America/New_York
BEGIN:DAYLIGHT
DTSTART:20200308T030000
TZOFFSETFROM:-0500
TZOFFSETTO:-0400
TZNAME:EDT
END:DAYLIGHT
END:VTIMEZONE
END:VCALENDAR