BEGIN:VCALENDAR
VERSION:2.0
PRODID:-//wp-events-plugin.com//7.2.3.1//EN
TZID:America/New_York
X-WR-TIMEZONE:America/New_York
BEGIN:VEVENT
UID:398@naminh.org
DTSTART;TZID=America/New_York:20240206T120000
DTEND;TZID=America/New_York:20240206T140000
DTSTAMP:20240129T140437Z
URL:https://www.naminh.org/events/mental-health-chat-free-pizza-young-adul
 t-voices-needed/
SUMMARY:Mental Health Chat & Free Pizza - Young Adult Voices Needed!
DESCRIPTION:NAMI NH invites all young adults (ages 18-24) to share your per
 spectives on mental health. Bring a device (phone\, tablet\, laptop) to pa
 rticipate anonymously.\n\nQuestions? Contact Deb: djurkoic@NAMINH.org\n\nC
 lick here to register\n\nRegister by Mon. 2/5 to receive an Amazon gift ca
 rd thank you after participation.
ATTACH;FMTTYPE=image/jpeg:https://www.naminh.org/wp-content/uploads/2024/0
 1/Youth-Voices-Flyer-–-v-3.png
CATEGORIES:Featured Event
LOCATION:NHTI\, Grappone Hall\, Room 217\, 43 College Drive\, Concord\, NH\
 , 03301\, United States
GEO:43.222803;-71.532937
X-APPLE-STRUCTURED-LOCATION;VALUE=URI;X-ADDRESS=43 College Drive\, Concord\
 , NH\, 03301\, United States;X-APPLE-RADIUS=100;X-TITLE=NHTI\, Grappone Ha
 ll\, Room 217:geo:43.222803,-71.532937
END:VEVENT
BEGIN:VTIMEZONE
TZID:America/New_York
X-LIC-LOCATION:America/New_York
BEGIN:STANDARD
DTSTART:20231105T010000
TZOFFSETFROM:-0400
TZOFFSETTO:-0500
TZNAME:EST
END:STANDARD
END:VTIMEZONE
END:VCALENDAR