BEGIN:VCALENDAR
VERSION:2.0
PRODID:-//wp-events-plugin.com//7.2.3.1//EN
TZID:America/New_York
X-WR-TIMEZONE:America/New_York
BEGIN:VEVENT
UID:389@naminh.org
DTSTART;TZID=America/New_York:20240309T090000
DTEND;TZID=America/New_York:20240310T180000
DTSTAMP:20231204T163609Z
URL:https://www.naminh.org/events/nami-family-to-family-education-program-
 leader-training/
SUMMARY:NAMI Family-to-Family Education Program Leader Training
DESCRIPTION:Qualifications:\n\n 	Have lived experience with an adult loved 
 one with mental illness.\n 	Have taken Family-to-Family.\n 	Must be comfor
 table reading out loud.\n 	Must be comfortable handling sensitive and pote
 ntially triggering topics like self-harm\, stigma\, etc.\n 	Must be empath
 etic\, supportive\, a good listener\, and non-judgmental.\n 	Must be relia
 ble and a good communicator.\n 	Experience with Zoom\, preferred.\n 	Recom
 mendation from an EducationProgram Leader\, preferred.\n 	Ability to pass 
 a background check.\n\nInterested?\nFill out a volunteer application at ww
 w.NAMINH.org/volunteer.\n\nTo register or for more info\, contact:\nMartha
  Dorey mdorey@NAMINH.org or 603-573-1565\n\nOvernight accommodations can b
 e provided if needed.
ATTACH;FMTTYPE=image/jpeg:https://www.naminh.org/wp-content/uploads/2023/1
 2/Family-to-Family-Flyer-March-2024.png
CATEGORIES:Featured Event
END:VEVENT
BEGIN:VTIMEZONE
TZID:America/New_York
X-LIC-LOCATION:America/New_York
BEGIN:STANDARD
DTSTART:20231105T010000
TZOFFSETFROM:-0400
TZOFFSETTO:-0500
TZNAME:EST
END:STANDARD
BEGIN:DAYLIGHT
DTSTART:20240310T030000
TZOFFSETFROM:-0500
TZOFFSETTO:-0400
TZNAME:EDT
END:DAYLIGHT
END:VTIMEZONE
END:VCALENDAR