BEGIN:VCALENDAR
VERSION:2.0
PRODID:-//wp-events-plugin.com//7.2.3.1//EN
TZID:America/New_York
X-WR-TIMEZONE:America/New_York
BEGIN:VEVENT
UID:496@naminh.org
DTSTART;TZID=America/New_York:20260617T180000
DTEND;TZID=America/New_York:20260805T200000
DTSTAMP:20260421T125202Z
URL:https://www.naminh.org/events/nami-peer-to-peer-education-program/
SUMMARY:NAMI Peer-to-Peer Education Program
DESCRIPTION:NAMI Peer-to-Peer is an 8-session recovery-focused course for a
 dults with mental health conditions.\n\n 	Free and confidential.\n 	Led by
  peers with mental health conditions.\n 	A great resource for information 
 on mental health and recovery.\n 	Offers respect\, understanding\, engagem
 ent\, and hope.\n 	Builds on the strength and resilience of participants.\
 n 	Meets weekly for 2 hours via Zoom\n\nFor more information or to registe
 r\, contact Jeremiah Rainville 401-371-6527 or  Michele Watson 603-545-95
 69
ATTACH;FMTTYPE=image/jpeg:https://www.naminh.org/wp-content/uploads/2026/0
 4/2026-Collaboration-with-NAMI-RI-Rev.webp
CATEGORIES:Classes,Peer-to-Peer
END:VEVENT
BEGIN:VTIMEZONE
TZID:America/New_York
X-LIC-LOCATION:America/New_York
BEGIN:DAYLIGHT
DTSTART:20260308T030000
TZOFFSETFROM:-0500
TZOFFSETTO:-0400
TZNAME:EDT
END:DAYLIGHT
END:VTIMEZONE
END:VCALENDAR