BEGIN:VCALENDAR
VERSION:2.0
PRODID:-//wp-events-plugin.com//7.2.3.1//EN
TZID:America/New_York
X-WR-TIMEZONE:America/New_York
BEGIN:VEVENT
UID:493@naminh.org
DTSTART;TZID=America/New_York:20260413T120000
DTEND;TZID=America/New_York:20260413T130000
DTSTAMP:20260323T113552Z
URL:https://www.naminh.org/events/supporting-youth-with-substance-use-conc
 erns-free-webinar/
SUMMARY:Supporting Youth with Substance Use Concerns - Free Webinar
DESCRIPTION:Join this webinar to:\n\n 	Hear from a student panelist who wil
 l offer a firsthand perspective on how parental support is received\n 	Und
 erstand the developing brain &amp\; why risk taking rises\n 	Learn how to 
 communicate with care\n 	Gain realistic prevention strategies: boundaries 
 and harm reduction\n 	Strengthen your role as a guide\n\nClick here to reg
 ister.
ATTACH;FMTTYPE=image/jpeg:https://www.naminh.org/wp-content/uploads/2026/0
 3/Co-occurring-webinar-4-13-26.webp
CATEGORIES:Featured Event
LOCATION:https://naminh-org.zoom.us/webinar/register/WN_u7HtCndOT2qBfLi3ZBl
 fYA#/registration
END:VEVENT
BEGIN:VTIMEZONE
TZID:America/New_York
X-LIC-LOCATION:America/New_York
BEGIN:DAYLIGHT
DTSTART:20260308T030000
TZOFFSETFROM:-0500
TZOFFSETTO:-0400
TZNAME:EDT
END:DAYLIGHT
END:VTIMEZONE
END:VCALENDAR